BEGIN:VCALENDAR
VERSION:2.0
PRODID:-//Distant Brewing | A Brewery and Restaurant in Mammoth Lakes California - ECPv6.15.20//NONSGML v1.0//EN
CALSCALE:GREGORIAN
METHOD:PUBLISH
X-WR-CALNAME:Distant Brewing | A Brewery and Restaurant in Mammoth Lakes California
X-ORIGINAL-URL:https://distantbeer.com
X-WR-CALDESC:Events for Distant Brewing | A Brewery and Restaurant in Mammoth Lakes California
REFRESH-INTERVAL;VALUE=DURATION:PT1H
X-Robots-Tag:noindex
X-PUBLISHED-TTL:PT1H
BEGIN:VTIMEZONE
TZID:America/Los_Angeles
BEGIN:DAYLIGHT
TZOFFSETFROM:-0800
TZOFFSETTO:-0700
TZNAME:PDT
DTSTART:20250309T100000
END:DAYLIGHT
BEGIN:STANDARD
TZOFFSETFROM:-0700
TZOFFSETTO:-0800
TZNAME:PST
DTSTART:20251102T090000
END:STANDARD
BEGIN:DAYLIGHT
TZOFFSETFROM:-0800
TZOFFSETTO:-0700
TZNAME:PDT
DTSTART:20260308T100000
END:DAYLIGHT
BEGIN:STANDARD
TZOFFSETFROM:-0700
TZOFFSETTO:-0800
TZNAME:PST
DTSTART:20261101T090000
END:STANDARD
BEGIN:DAYLIGHT
TZOFFSETFROM:-0800
TZOFFSETTO:-0700
TZNAME:PDT
DTSTART:20270314T100000
END:DAYLIGHT
BEGIN:STANDARD
TZOFFSETFROM:-0700
TZOFFSETTO:-0800
TZNAME:PST
DTSTART:20271107T090000
END:STANDARD
END:VTIMEZONE
BEGIN:VEVENT
DTSTART;TZID=America/Los_Angeles:20260423T150000
DTEND;TZID=America/Los_Angeles:20260423T170000
DTSTAMP:20260425T182302
CREATED:20230407T164825Z
LAST-MODIFIED:20241029T221847Z
UID:10001383-1776956400-1776963600@distantbeer.com
SUMMARY:Happy Hour!
DESCRIPTION:Join us at Distant Brewing for our mid-week happy hour from from 3-5pm! Happy Hour deals include $1.00 off all alcoholic drinks including our house beers\, guest ciders\, guest kombuchas\, guest seltzers and wines. \n*Our $1 off discount is applied automatically and starts exactly at 3pm and ends exactly at 5pm based on our clocks.  It cannot be adjusted or changed by the servers\, so please order in a timely fashion to ensure you get your discount\, cheers!
URL:https://distantbeer.com/event/happy-hour/2026-04-23/
LOCATION:Distant Brewing\, 568 Old Mammoth Road\, Mammoth Lakes\, CA\, 93546\, United States
CATEGORIES:Mammoth Lakes Happy Hour
ATTACH;FMTTYPE=image/webp:https://distantbeer.com/wp-content/uploads/2024/01/Happy-Hour-Distant-Brewing-Mammoth-Lakes.webp
ORGANIZER;CN="Kirk @ Distant":MAILTO:kirk@distantbeer.com
GEO:37.63782;-118.96715
X-APPLE-STRUCTURED-LOCATION;VALUE=URI;X-ADDRESS=Distant Brewing 568 Old Mammoth Road Mammoth Lakes CA 93546 United States;X-APPLE-RADIUS=500;X-TITLE=568 Old Mammoth Road:geo:-118.96715,37.63782
END:VEVENT
END:VCALENDAR