BEGIN:VCALENDAR
VERSION:2.0
PRODID:-//Distant Brewing | A Brewery and Restaurant in Mammoth Lakes California - ECPv6.15.20//NONSGML v1.0//EN
CALSCALE:GREGORIAN
METHOD:PUBLISH
X-WR-CALNAME:Distant Brewing | A Brewery and Restaurant in Mammoth Lakes California
X-ORIGINAL-URL:https://distantbeer.com
X-WR-CALDESC:Events for Distant Brewing | A Brewery and Restaurant in Mammoth Lakes California
REFRESH-INTERVAL;VALUE=DURATION:PT1H
X-Robots-Tag:noindex
X-PUBLISHED-TTL:PT1H
BEGIN:VTIMEZONE
TZID:America/Los_Angeles
BEGIN:DAYLIGHT
TZOFFSETFROM:-0800
TZOFFSETTO:-0700
TZNAME:PDT
DTSTART:20250309T100000
END:DAYLIGHT
BEGIN:STANDARD
TZOFFSETFROM:-0700
TZOFFSETTO:-0800
TZNAME:PST
DTSTART:20251102T090000
END:STANDARD
BEGIN:DAYLIGHT
TZOFFSETFROM:-0800
TZOFFSETTO:-0700
TZNAME:PDT
DTSTART:20260308T100000
END:DAYLIGHT
BEGIN:STANDARD
TZOFFSETFROM:-0700
TZOFFSETTO:-0800
TZNAME:PST
DTSTART:20261101T090000
END:STANDARD
BEGIN:DAYLIGHT
TZOFFSETFROM:-0800
TZOFFSETTO:-0700
TZNAME:PDT
DTSTART:20270314T100000
END:DAYLIGHT
BEGIN:STANDARD
TZOFFSETFROM:-0700
TZOFFSETTO:-0800
TZNAME:PST
DTSTART:20271107T090000
END:STANDARD
END:VTIMEZONE
BEGIN:VTIMEZONE
TZID:UTC
BEGIN:STANDARD
TZOFFSETFROM:+0000
TZOFFSETTO:+0000
TZNAME:UTC
DTSTART:20250101T000000
END:STANDARD
END:VTIMEZONE
BEGIN:VEVENT
DTSTART;TZID=America/Los_Angeles:20260420T150000
DTEND;TZID=America/Los_Angeles:20260420T170000
DTSTAMP:20260425T170241
CREATED:20230407T164825Z
LAST-MODIFIED:20241029T221847Z
UID:10001380-1776697200-1776704400@distantbeer.com
SUMMARY:Happy Hour!
DESCRIPTION:Join us at Distant Brewing for our mid-week happy hour from from 3-5pm! Happy Hour deals include $1.00 off all alcoholic drinks including our house beers\, guest ciders\, guest kombuchas\, guest seltzers and wines. \n*Our $1 off discount is applied automatically and starts exactly at 3pm and ends exactly at 5pm based on our clocks.  It cannot be adjusted or changed by the servers\, so please order in a timely fashion to ensure you get your discount\, cheers!
URL:https://distantbeer.com/event/happy-hour/2026-04-20/
LOCATION:Distant Brewing\, 568 Old Mammoth Road\, Mammoth Lakes\, CA\, 93546\, United States
CATEGORIES:Mammoth Lakes Happy Hour
ATTACH;FMTTYPE=image/webp:https://distantbeer.com/wp-content/uploads/2024/01/Happy-Hour-Distant-Brewing-Mammoth-Lakes.webp
ORGANIZER;CN="Kirk @ Distant":MAILTO:kirk@distantbeer.com
GEO:37.63782;-118.96715
X-APPLE-STRUCTURED-LOCATION;VALUE=URI;X-ADDRESS=Distant Brewing 568 Old Mammoth Road Mammoth Lakes CA 93546 United States;X-APPLE-RADIUS=500;X-TITLE=568 Old Mammoth Road:geo:-118.96715,37.63782
END:VEVENT
BEGIN:VEVENT
DTSTART;TZID=UTC:20260420T180000
DTEND;TZID=UTC:20260420T210000
DTSTAMP:20260425T170241
CREATED:20221101T165221Z
LAST-MODIFIED:20240402T135827Z
UID:10002076-1776708000-1776718800@distantbeer.com
SUMMARY:Open Mic Monday's
DESCRIPTION:Distant Brewing in Mammoth Lakes hosts an open mic night every Monday night\, all year long!  We have guitars\, amps\, drums\, mics\, keyboards and anything else you need to get yourself up on the stage!  Bring yourself\, bring a friend or bring a group to help you live out your Rockstar dreams! \nOpen mic begins at 6pm with a sign-up sheet at the bar and goes until at least 9pm depending on the turn-out and the vibes of the night. \nArtists\, please keep your set to about 3-4 songs or 15 minutes if there are others signed up behind you.  We don’t wanna tell you how to do your job\, but the more recognizable the song\, the more crowd interaction you’ll get\, guaranteed!  Also\, please be respectful of our equipment\, we’ve provided it for you so you don’t have to lug gear in and out\, and we want to keep it all in good condition for the next act.  Thank you!
URL:https://distantbeer.com/event/open-mic-mondays/2026-04-20/
LOCATION:Distant Brewing\, 568 Old Mammoth Road\, Mammoth Lakes\, CA\, 93546\, United States
CATEGORIES:Live in Mammoth,Live Music at Distant Brewing,Live Music in Mammoth Lakes,Mammoth Lakes Live
ATTACH;FMTTYPE=image/webp:https://distantbeer.com/wp-content/uploads/2024/01/Open-Mic-Monday-Distant-Brewing-Mammoth-Lakes.webp
ORGANIZER;CN="Kirk @ Distant":MAILTO:kirk@distantbeer.com
GEO:37.63782;-118.96715
X-APPLE-STRUCTURED-LOCATION;VALUE=URI;X-ADDRESS=Distant Brewing 568 Old Mammoth Road Mammoth Lakes CA 93546 United States;X-APPLE-RADIUS=500;X-TITLE=568 Old Mammoth Road:geo:-118.96715,37.63782
END:VEVENT
END:VCALENDAR